BEGIN:VCALENDAR
VERSION:2.0
PRODID:-//Maîtrise - ECPv5.16.4//NONSGML v1.0//EN
CALSCALE:GREGORIAN
METHOD:PUBLISH
X-WR-CALNAME:Maîtrise
X-ORIGINAL-URL:https://maitrise.be
X-WR-CALDESC:Events for Maîtrise
BEGIN:VTIMEZONE
TZID:America/Denver
BEGIN:DAYLIGHT
TZOFFSETFROM:-0700
TZOFFSETTO:-0600
TZNAME:MDT
DTSTART:20130310T090000
END:DAYLIGHT
BEGIN:STANDARD
TZOFFSETFROM:-0600
TZOFFSETTO:-0700
TZNAME:MST
DTSTART:20131103T080000
END:STANDARD
END:VTIMEZONE
BEGIN:VEVENT
DTSTART;TZID=America/Denver:20130331T100000
DTEND;TZID=America/Denver:20130331T110000
DTSTAMP:20260420T040719
CREATED:20221221T061008Z
LAST-MODIFIED:20221221T061008Z
UID:3525-1364724000-1364727600@maitrise.be
SUMMARY:MESSE DE PAQUES 2013
DESCRIPTION:– Entrée : “Pourquoi cherchez-vous parmi les morts” ;\n    – Aspersion : “J’ai vu l’eau vive” de J.P. LECOT ;\n    – Gloria\, Sanctus & Agnus : “Messe solennelle en Ut mineur”\n       de Louis VIERNE (1870-1937)   (Info 1) (Info 2) ;\n    – Psaume 117 : “Ce jour que fit le Seigneur” ;\n    – Alleluia : “Victimae Pascali Laudes” (Gregorien) ;\n                    “Alleluia de Mozart” (Par les dames) ;\n    – Offertoire : “Ave Verum”   d’ Edward ELGAR ;\n    – Communion : “Le Christ vivant\, hors du tombeau”\n        de Jean-Sébastien BACH (1685-1750).
URL:https://maitrise.be/prestation/messe-de-paques-2013/
LOCATION:CATHÉDRALE de TOURNAI
CATEGORIES:Prestations
ATTACH;FMTTYPE=image/jpeg:https://maitrise.be/wp-content/uploads/2022/12/0117f7918c6efbdc221855892eb6e0c.jpg
END:VEVENT
END:VCALENDAR