BEGIN:VCALENDAR
VERSION:2.0
PRODID:-//Maîtrise - ECPv5.16.4//NONSGML v1.0//EN
CALSCALE:GREGORIAN
METHOD:PUBLISH
X-WR-CALNAME:Maîtrise
X-ORIGINAL-URL:https://maitrise.be
X-WR-CALDESC:Events for Maîtrise
BEGIN:VTIMEZONE
TZID:America/Denver
BEGIN:DAYLIGHT
TZOFFSETFROM:-0700
TZOFFSETTO:-0600
TZNAME:MDT
DTSTART:20150308T090000
END:DAYLIGHT
BEGIN:STANDARD
TZOFFSETFROM:-0600
TZOFFSETTO:-0700
TZNAME:MST
DTSTART:20151101T080000
END:STANDARD
END:VTIMEZONE
BEGIN:VEVENT
DTSTART;TZID=America/Denver:20151225T100000
DTEND;TZID=America/Denver:20151225T110000
DTSTAMP:20260419T222415
CREATED:20221221T055302Z
LAST-MODIFIED:20221221T055302Z
UID:3498-1451037600-1451041200@maitrise.be
SUMMARY:MESSE DE NOEL 2015
DESCRIPTION:– Entrée : “Les anges dans nos campagnes” (Noël traditionnel)\n    – Kyrië\, Sanctus et Agnus : “Missa de Nativite Domini”  de  Laszlo HALMOS\n    – Gloria de la   “Messe pour Saint Séverin”  de  M. BOUVARD\n    – Psaume 97 : “La terre entière a vu le Salut”  de  C. TOULMONDE\n    – Alleluia : “Aujourd’hui la lumière a brillé sur la terre”\n                    d’ Antoine TOULMONDE\, Compositeur belge (1902-1993)\n    – Après l’homélie :\n            “Jubilate Deo (Jubilé 99)”  de  László HALMOS  (1909-1997)\n            “Hymne de l’Année Sainte de la Miséricorde”\n    – Credo III avec   “Et incarnatus est”  de  Josquin DES PRES  (1440-1521)\n    – Offertoire : “In duldi jubilo”   (Chant traditionnel)\n    – Communion : “Du haut du ciel je viens à vous”  (choral)\n                            de
URL:https://maitrise.be/prestation/messe-de-noel-2015/
LOCATION:CATHÉDRALE de TOURNAI
ATTACH;FMTTYPE=image/jpeg:https://maitrise.be/wp-content/uploads/2022/12/0117f7918c6efbdc221855892eb6e0c.jpg
END:VEVENT
END:VCALENDAR