BEGIN:VCALENDAR
VERSION:2.0
PRODID:-//Maîtrise - ECPv5.16.4//NONSGML v1.0//EN
CALSCALE:GREGORIAN
METHOD:PUBLISH
X-WR-CALNAME:Maîtrise
X-ORIGINAL-URL:https://maitrise.be
X-WR-CALDESC:Events for Maîtrise
BEGIN:VTIMEZONE
TZID:America/Denver
BEGIN:DAYLIGHT
TZOFFSETFROM:-0700
TZOFFSETTO:-0600
TZNAME:MDT
DTSTART:20140309T090000
END:DAYLIGHT
BEGIN:STANDARD
TZOFFSETFROM:-0600
TZOFFSETTO:-0700
TZNAME:MST
DTSTART:20141102T080000
END:STANDARD
END:VTIMEZONE
BEGIN:VEVENT
DTSTART;TZID=America/Denver:20140913T180000
DTEND;TZID=America/Denver:20140913T190000
DTSTAMP:20260419T151829
CREATED:20221221T055954Z
LAST-MODIFIED:20221221T055954Z
UID:3510-1410631200-1410634800@maitrise.be
SUMMARY:MESSE de la GRANDE PROCESSION de TOURNAI 2014 (avec Cuivres)
DESCRIPTION:(voir le site internet de la Grande Procession de Tournai)\n    – Entrée : “Mon âme chante le Seigneur” ;\n    – Kyrie de la   “Messe de Saint Luc”  de   Henri BARBIER ;\n    – Gloria\, Sanctus et Agnus :\n                       “MISSA BEATISSIMAE VIRGINIS MARIA” de Michaël HAYDN ;\n    – Psaume 77 : “Par ta Croix Seigneur\, Tu nous a rendu la vie” ;\n    – Alleluia (avec Cuivres) : “O Christ\, nous t’adorons” de H. BARBIER ;\n    – Offertoire : “Sicut Locutus Est” de J.S. BACH ;\n    – Communion : “Toi qui ravis le coeur de Dieu” ;\n    – Remise des clés : “Maître du Monde”\, “Mon âme chante le Seigneur” ;\n    – Sortie : “Les tournaisiens sont là !” d’Ad. Delmée (1820-1891).
URL:https://maitrise.be/prestation/messe-de-la-grande-procession-de-tournai-2014-avec-cuivres/
LOCATION:CATHÉDRALE de TOURNAI
CATEGORIES:Prestations
ATTACH;FMTTYPE=image/jpeg:https://maitrise.be/wp-content/uploads/2022/12/0117f7918c6efbdc221855892eb6e0c.jpg
END:VEVENT
END:VCALENDAR