BEGIN:VCALENDAR
VERSION:2.0
PRODID:-//Maîtrise - ECPv5.16.4//NONSGML v1.0//EN
CALSCALE:GREGORIAN
METHOD:PUBLISH
X-WR-CALNAME:Maîtrise
X-ORIGINAL-URL:https://maitrise.be
X-WR-CALDESC:Events for Maîtrise
BEGIN:VTIMEZONE
TZID:America/Denver
BEGIN:DAYLIGHT
TZOFFSETFROM:-0700
TZOFFSETTO:-0600
TZNAME:MDT
DTSTART:20130310T090000
END:DAYLIGHT
BEGIN:STANDARD
TZOFFSETFROM:-0600
TZOFFSETTO:-0700
TZNAME:MST
DTSTART:20131103T080000
END:STANDARD
END:VTIMEZONE
BEGIN:VEVENT
DTSTART;TZID=America/Denver:20130914T180000
DTEND;TZID=America/Denver:20130914T190000
DTSTAMP:20260420T021449
CREATED:20221221T060755Z
LAST-MODIFIED:20221221T060755Z
UID:3523-1379181600-1379185200@maitrise.be
SUMMARY:MESSE de la GRANDE PROCESSION de TOURNAI 2013 (avec Cuivres)
DESCRIPTION:(voir le site internet de la Grande Procession de Tournai)\n    – Entrée : “Choral de la Procession ”\n    – Kyrië\, Gloria\, Sanctus\, Benedictus & Agnus :\n                      “Missa Brevis KV 115” de Léopold MOZART\n    – Alleluia : “O Christ\, nous t’adorons” de H. BARBIER\n    – Offertoire : “Recordare\, Virgo Maria” de P. CASALS
URL:https://maitrise.be/prestation/messe-de-la-grande-procession-de-tournai-2013-avec-cuivres/
LOCATION:CATHÉDRALE de TOURNAI
CATEGORIES:Prestations
ATTACH;FMTTYPE=image/jpeg:https://maitrise.be/wp-content/uploads/2022/12/0117f7918c6efbdc221855892eb6e0c.jpg
END:VEVENT
END:VCALENDAR