BEGIN:VCALENDAR
VERSION:2.0
PRODID:-//Maîtrise - ECPv5.16.4//NONSGML v1.0//EN
CALSCALE:GREGORIAN
METHOD:PUBLISH
X-WR-CALNAME:Maîtrise
X-ORIGINAL-URL:https://maitrise.be
X-WR-CALDESC:Events for Maîtrise
BEGIN:VTIMEZONE
TZID:America/Denver
BEGIN:DAYLIGHT
TZOFFSETFROM:-0700
TZOFFSETTO:-0600
TZNAME:MDT
DTSTART:20130310T090000
END:DAYLIGHT
BEGIN:STANDARD
TZOFFSETFROM:-0600
TZOFFSETTO:-0700
TZNAME:MST
DTSTART:20131103T080000
END:STANDARD
END:VTIMEZONE
BEGIN:VEVENT
DTSTART;TZID=America/Denver:20131124T100000
DTEND;TZID=America/Denver:20131124T110000
DTSTAMP:20260420T083621
CREATED:20221221T060537Z
LAST-MODIFIED:20221221T060537Z
UID:3517-1385287200-1385290800@maitrise.be
SUMMARY:MESSE DE SAINTE CÉCILE 2013
DESCRIPTION:– “Invocation aux défunts”  de   Jean-Sébastien BACH (1685-1750) ;\n    – Entrée : “Pour avancer ensemble”\n      de Christian VILLENEUVE  (compositeur contemporain) ;\n    – Kyrië\, Sanctus et Agnus de la messe   “Missa Festivae Op.154”\n      de   A. GRETCHANINOFF  (1864-1956) ;\n    – Gloria de la   “Messe de Saint Luc”  de   Henri BARBIER ;\n    – Psaume 121  “Ton Règne Seigneur est un Règne de Paix”  de  Henri BARBIER ;\n    – Alleluia : “Christ-Roi  (pour Eric)”  de  Henri BARBIER ;\n    – Offertoire : “O Salutaris Hostia”  de   G. ROSSINI  (1792-1868) ;\n    – Communion : “Chant de triomphe”  de  Jean-Sébastien BACH.
URL:https://maitrise.be/prestation/messe-de-sainte-cecile-2013/
LOCATION:CATHÉDRALE de TOURNAI
CATEGORIES:Prestations
ATTACH;FMTTYPE=image/jpeg:https://maitrise.be/wp-content/uploads/2022/12/0117f7918c6efbdc221855892eb6e0c.jpg
END:VEVENT
END:VCALENDAR