BEGIN:VCALENDAR
VERSION:2.0
PRODID:-//Maîtrise - ECPv5.16.4//NONSGML v1.0//EN
CALSCALE:GREGORIAN
METHOD:PUBLISH
X-WR-CALNAME:Maîtrise
X-ORIGINAL-URL:https://maitrise.be
X-WR-CALDESC:Events for Maîtrise
BEGIN:VTIMEZONE
TZID:America/Denver
BEGIN:DAYLIGHT
TZOFFSETFROM:-0700
TZOFFSETTO:-0600
TZNAME:MDT
DTSTART:20130310T090000
END:DAYLIGHT
BEGIN:STANDARD
TZOFFSETFROM:-0600
TZOFFSETTO:-0700
TZNAME:MST
DTSTART:20131103T080000
END:STANDARD
END:VTIMEZONE
BEGIN:VEVENT
DTSTART;TZID=America/Denver:20131115T110000
DTEND;TZID=America/Denver:20131115T120000
DTSTAMP:20260420T083643
CREATED:20221221T060614Z
LAST-MODIFIED:20221221T060614Z
UID:3519-1384513200-1384516800@maitrise.be
SUMMARY:TE DEUM 2013 (avec cuivres)
DESCRIPTION:
URL:https://maitrise.be/prestation/te-deum-2013-avec-cuivres/
LOCATION:CATHÉDRALE de TOURNAI
CATEGORIES:Prestations
ATTACH;FMTTYPE=image/jpeg:https://maitrise.be/wp-content/uploads/2022/12/0117f7918c6efbdc221855892eb6e0c.jpg
END:VEVENT
END:VCALENDAR