BEGIN:VCALENDAR
VERSION:2.0
PRODID:-//Maîtrise - ECPv5.16.4//NONSGML v1.0//EN
CALSCALE:GREGORIAN
METHOD:PUBLISH
X-WR-CALNAME:Maîtrise
X-ORIGINAL-URL:https://maitrise.be
X-WR-CALDESC:Events for Maîtrise
BEGIN:VTIMEZONE
TZID:Europe/Brussels
BEGIN:DAYLIGHT
TZOFFSETFROM:+0100
TZOFFSETTO:+0200
TZNAME:CEST
DTSTART:20260329T010000
END:DAYLIGHT
BEGIN:STANDARD
TZOFFSETFROM:+0200
TZOFFSETTO:+0100
TZNAME:CET
DTSTART:20261025T010000
END:STANDARD
END:VTIMEZONE
BEGIN:VEVENT
DTSTART;TZID=Europe/Brussels:20260721T110000
DTEND;TZID=Europe/Brussels:20260721T110000
DTSTAMP:20260419T201059
CREATED:20260105T110539Z
LAST-MODIFIED:20260105T110539Z
UID:4447-1784631600-1784631600@maitrise.be
SUMMARY:Te Deum
DESCRIPTION:
URL:https://maitrise.be/prestation/te-deum-8/
LOCATION:CATHEDRALE
CATEGORIES:calendrier-adultes,Prestations
END:VEVENT
END:VCALENDAR