BEGIN:VCALENDAR
VERSION:2.0
PRODID:-//Maîtrise - ECPv5.16.4//NONSGML v1.0//EN
CALSCALE:GREGORIAN
METHOD:PUBLISH
X-WR-CALNAME:Maîtrise
X-ORIGINAL-URL:https://maitrise.be
X-WR-CALDESC:Events for Maîtrise
BEGIN:VTIMEZONE
TZID:Europe/Brussels
BEGIN:DAYLIGHT
TZOFFSETFROM:+0100
TZOFFSETTO:+0200
TZNAME:CEST
DTSTART:20250330T010000
END:DAYLIGHT
BEGIN:STANDARD
TZOFFSETFROM:+0200
TZOFFSETTO:+0100
TZNAME:CET
DTSTART:20251026T010000
END:STANDARD
END:VTIMEZONE
BEGIN:VEVENT
DTSTART;TZID=Europe/Brussels:20250926T180000
DTEND;TZID=Europe/Brussels:20250926T180000
DTSTAMP:20260420T032850
CREATED:20250701T121443Z
LAST-MODIFIED:20250701T124714Z
UID:4297-1758909600-1758909600@maitrise.be
SUMMARY:Répétition
DESCRIPTION:
URL:https://maitrise.be/prestation/repetition-205/
LOCATION:Maison de la Culture
CATEGORIES:calendrier-jeunes
END:VEVENT
BEGIN:VEVENT
DTSTART;TZID=Europe/Brussels:20250926T200000
DTEND;TZID=Europe/Brussels:20250926T200000
DTSTAMP:20260420T032850
CREATED:20250701T121327Z
LAST-MODIFIED:20250701T121327Z
UID:4273-1758916800-1758916800@maitrise.be
SUMMARY:Répétition
DESCRIPTION:
URL:https://maitrise.be/prestation/repetition-188/
LOCATION:Local
CATEGORIES:calendrier-adultes
END:VEVENT
END:VCALENDAR