BEGIN:VCALENDAR
VERSION:2.0
PRODID:-//Maîtrise - ECPv5.16.4//NONSGML v1.0//EN
CALSCALE:GREGORIAN
METHOD:PUBLISH
X-WR-CALNAME:Maîtrise
X-ORIGINAL-URL:https://maitrise.be
X-WR-CALDESC:Events for Maîtrise
BEGIN:VTIMEZONE
TZID:Europe/Brussels
BEGIN:DAYLIGHT
TZOFFSETFROM:+0100
TZOFFSETTO:+0200
TZNAME:CEST
DTSTART:20250330T010000
END:DAYLIGHT
BEGIN:STANDARD
TZOFFSETFROM:+0200
TZOFFSETTO:+0100
TZNAME:CET
DTSTART:20251026T010000
END:STANDARD
END:VTIMEZONE
BEGIN:VEVENT
DTSTART;TZID=Europe/Brussels:20250912T180000
DTEND;TZID=Europe/Brussels:20250912T180000
DTSTAMP:20260420T032120
CREATED:20250701T121430Z
LAST-MODIFIED:20250701T124542Z
UID:4295-1757700000-1757700000@maitrise.be
SUMMARY:Répétition
DESCRIPTION:
URL:https://maitrise.be/prestation/repetition-203/
LOCATION:Maison de la Culture
CATEGORIES:calendrier-jeunes
END:VEVENT
BEGIN:VEVENT
DTSTART;TZID=Europe/Brussels:20250912T200000
DTEND;TZID=Europe/Brussels:20250912T200000
DTSTAMP:20260420T032120
CREATED:20250701T121325Z
LAST-MODIFIED:20250701T122024Z
UID:4271-1757707200-1757707200@maitrise.be
SUMMARY:Répétition
DESCRIPTION:
URL:https://maitrise.be/prestation/repetition-186/
LOCATION:CATHEDRALE
CATEGORIES:calendrier-adultes,calendrier-jeunes
END:VEVENT
END:VCALENDAR