BEGIN:VCALENDAR
VERSION:2.0
PRODID:-//Maîtrise - ECPv5.16.4//NONSGML v1.0//EN
CALSCALE:GREGORIAN
METHOD:PUBLISH
X-WR-CALNAME:Maîtrise
X-ORIGINAL-URL:https://maitrise.be
X-WR-CALDESC:Events for Maîtrise
BEGIN:VTIMEZONE
TZID:Europe/Brussels
BEGIN:DAYLIGHT
TZOFFSETFROM:+0100
TZOFFSETTO:+0200
TZNAME:CEST
DTSTART:20250330T010000
END:DAYLIGHT
BEGIN:STANDARD
TZOFFSETFROM:+0200
TZOFFSETTO:+0100
TZNAME:CET
DTSTART:20251026T010000
END:STANDARD
END:VTIMEZONE
BEGIN:VEVENT
DTSTART;TZID=Europe/Brussels:20250829T180000
DTEND;TZID=Europe/Brussels:20250829T180000
DTSTAMP:20260420T045613
CREATED:20250701T121429Z
LAST-MODIFIED:20250701T121429Z
UID:4293-1756490400-1756490400@maitrise.be
SUMMARY:Répétition
DESCRIPTION:
URL:https://maitrise.be/prestation/repetition-201/
LOCATION:Local
CATEGORIES:calendrier-jeunes
END:VEVENT
BEGIN:VEVENT
DTSTART;TZID=Europe/Brussels:20250829T200000
DTEND;TZID=Europe/Brussels:20250829T200000
DTSTAMP:20260420T045613
CREATED:20250701T121325Z
LAST-MODIFIED:20250701T121325Z
UID:4268-1756497600-1756497600@maitrise.be
SUMMARY:Répétition
DESCRIPTION:
URL:https://maitrise.be/prestation/repetition-184/
LOCATION:Local
CATEGORIES:calendrier-adultes
END:VEVENT
END:VCALENDAR