BEGIN:VCALENDAR
VERSION:2.0
PRODID:-//Maîtrise - ECPv5.16.4//NONSGML v1.0//EN
CALSCALE:GREGORIAN
METHOD:PUBLISH
X-WR-CALNAME:Maîtrise
X-ORIGINAL-URL:https://maitrise.be
X-WR-CALDESC:Events for Maîtrise
BEGIN:VTIMEZONE
TZID:Europe/Brussels
BEGIN:DAYLIGHT
TZOFFSETFROM:+0100
TZOFFSETTO:+0200
TZNAME:CEST
DTSTART:20250330T010000
END:DAYLIGHT
BEGIN:STANDARD
TZOFFSETFROM:+0200
TZOFFSETTO:+0100
TZNAME:CET
DTSTART:20251026T010000
END:STANDARD
END:VTIMEZONE
BEGIN:VEVENT
DTSTART;TZID=Europe/Brussels:20250608T100000
DTEND;TZID=Europe/Brussels:20250608T100000
DTSTAMP:20260420T081218
CREATED:20250102T133024Z
LAST-MODIFIED:20250102T143251Z
UID:4182-1749376800-1749376800@maitrise.be
SUMMARY:Messe de Pentecôte
DESCRIPTION:
URL:https://maitrise.be/prestation/messe-de-pentecote-6/
LOCATION:CATHEDRALE
CATEGORIES:calendrier-adultes,calendrier-jeunes,Prestations
END:VEVENT
END:VCALENDAR