BEGIN:VCALENDAR
VERSION:2.0
PRODID:-//Maîtrise - ECPv5.16.4//NONSGML v1.0//EN
CALSCALE:GREGORIAN
METHOD:PUBLISH
X-WR-CALNAME:Maîtrise
X-ORIGINAL-URL:https://maitrise.be
X-WR-CALDESC:Events for Maîtrise
BEGIN:VTIMEZONE
TZID:Europe/Brussels
BEGIN:DAYLIGHT
TZOFFSETFROM:+0100
TZOFFSETTO:+0200
TZNAME:CEST
DTSTART:20250330T010000
END:DAYLIGHT
BEGIN:STANDARD
TZOFFSETFROM:+0200
TZOFFSETTO:+0100
TZNAME:CET
DTSTART:20251026T010000
END:STANDARD
END:VTIMEZONE
BEGIN:VEVENT
DTSTART;TZID=Europe/Brussels:20250516T180000
DTEND;TZID=Europe/Brussels:20250516T180000
DTSTAMP:20260420T095337
CREATED:20250102T140254Z
LAST-MODIFIED:20250102T140254Z
UID:4208-1747418400-1747418400@maitrise.be
SUMMARY:Répétition
DESCRIPTION:
URL:https://maitrise.be/prestation/repetition-182/
LOCATION:Local
CATEGORIES:calendrier-jeunes
END:VEVENT
BEGIN:VEVENT
DTSTART;TZID=Europe/Brussels:20250516T200000
DTEND;TZID=Europe/Brussels:20250516T200000
DTSTAMP:20260420T095337
CREATED:20250102T132824Z
LAST-MODIFIED:20250102T132824Z
UID:4177-1747425600-1747425600@maitrise.be
SUMMARY:Répétition
DESCRIPTION:
URL:https://maitrise.be/prestation/repetition-160/
LOCATION:CATHEDRALE
CATEGORIES:calendrier-adultes
END:VEVENT
END:VCALENDAR