BEGIN:VCALENDAR
VERSION:2.0
PRODID:-//Maîtrise - ECPv5.16.4//NONSGML v1.0//EN
CALSCALE:GREGORIAN
METHOD:PUBLISH
X-WR-CALNAME:Maîtrise
X-ORIGINAL-URL:https://maitrise.be
X-WR-CALDESC:Events for Maîtrise
BEGIN:VTIMEZONE
TZID:Europe/Brussels
BEGIN:DAYLIGHT
TZOFFSETFROM:+0100
TZOFFSETTO:+0200
TZNAME:CEST
DTSTART:20240331T010000
END:DAYLIGHT
BEGIN:STANDARD
TZOFFSETFROM:+0200
TZOFFSETTO:+0100
TZNAME:CET
DTSTART:20241027T010000
END:STANDARD
END:VTIMEZONE
BEGIN:VEVENT
DTSTART;TZID=Europe/Brussels:20240908T083000
DTEND;TZID=Europe/Brussels:20240908T083000
DTSTAMP:20260422T214401
CREATED:20240102T061950Z
LAST-MODIFIED:20240102T063723Z
UID:3760-1725784200-1725784200@maitrise.be
SUMMARY:Messe brève de Procession
DESCRIPTION:
URL:https://maitrise.be/prestation/messe-breve-de-procession/
LOCATION:CATHEDRALE
CATEGORIES:calendrier-adultes,Prestations
END:VEVENT
BEGIN:VEVENT
DTSTART;TZID=Europe/Brussels:20240908T083000
DTEND;TZID=Europe/Brussels:20240908T083000
DTSTAMP:20260422T214401
CREATED:20240704T124440Z
LAST-MODIFIED:20240704T124440Z
UID:4084-1725784200-1725784200@maitrise.be
SUMMARY:Office de Procession (2)
DESCRIPTION:
URL:https://maitrise.be/prestation/office-de-procession-2/
LOCATION:CATHEDRALE
CATEGORIES:calendrier-jeunes
END:VEVENT
BEGIN:VEVENT
DTSTART;TZID=Europe/Brussels:20240908T100000
DTEND;TZID=Europe/Brussels:20240908T100000
DTSTAMP:20260422T214401
CREATED:20240102T062019Z
LAST-MODIFIED:20240704T125922Z
UID:3761-1725789600-1725789600@maitrise.be
SUMMARY:Procession
DESCRIPTION:
URL:https://maitrise.be/prestation/procession/
LOCATION:CATHEDRALE
CATEGORIES:calendrier-adultes,calendrier-jeunes
END:VEVENT
END:VCALENDAR