BEGIN:VCALENDAR
VERSION:2.0
PRODID:-//Maîtrise - ECPv5.16.4//NONSGML v1.0//EN
CALSCALE:GREGORIAN
METHOD:PUBLISH
X-WR-CALNAME:Maîtrise
X-ORIGINAL-URL:https://maitrise.be
X-WR-CALDESC:Events for Maîtrise
BEGIN:VTIMEZONE
TZID:Europe/Brussels
BEGIN:DAYLIGHT
TZOFFSETFROM:+0100
TZOFFSETTO:+0200
TZNAME:CEST
DTSTART:20240331T010000
END:DAYLIGHT
BEGIN:STANDARD
TZOFFSETFROM:+0200
TZOFFSETTO:+0100
TZNAME:CET
DTSTART:20241027T010000
END:STANDARD
END:VTIMEZONE
BEGIN:VEVENT
DTSTART;TZID=Europe/Brussels:20240520T140000
DTEND;TZID=Europe/Brussels:20240520T140000
DTSTAMP:20260423T045318
CREATED:20240102T061717Z
LAST-MODIFIED:20240102T063833Z
UID:3748-1716213600-1716213600@maitrise.be
SUMMARY:Randonnée vélo
DESCRIPTION:
URL:https://maitrise.be/prestation/randonnee-velo-3/
CATEGORIES:calendrier-adultes,calendrier-jeunes
END:VEVENT
END:VCALENDAR