BEGIN:VCALENDAR
VERSION:2.0
PRODID:-//Maîtrise - ECPv5.16.4//NONSGML v1.0//EN
CALSCALE:GREGORIAN
METHOD:PUBLISH
X-WR-CALNAME:Maîtrise
X-ORIGINAL-URL:https://maitrise.be
X-WR-CALDESC:Events for Maîtrise
BEGIN:VTIMEZONE
TZID:Europe/Brussels
BEGIN:DAYLIGHT
TZOFFSETFROM:+0100
TZOFFSETTO:+0200
TZNAME:CEST
DTSTART:20240331T010000
END:DAYLIGHT
BEGIN:STANDARD
TZOFFSETFROM:+0200
TZOFFSETTO:+0100
TZNAME:CET
DTSTART:20241027T010000
END:STANDARD
END:VTIMEZONE
BEGIN:VEVENT
DTSTART;TZID=Europe/Brussels:20240519T094500
DTEND;TZID=Europe/Brussels:20240519T094500
DTSTAMP:20260423T045319
CREATED:20240102T061717Z
LAST-MODIFIED:20240102T061717Z
UID:3747-1716111900-1716111900@maitrise.be
SUMMARY:Messe de Pentecôte
DESCRIPTION:
URL:https://maitrise.be/prestation/messe-de-pentecote-3/
LOCATION:CATHEDRALE
CATEGORIES:calendrier-adultes
END:VEVENT
BEGIN:VEVENT
DTSTART;TZID=Europe/Brussels:20240519T094500
DTEND;TZID=Europe/Brussels:20240519T120000
DTSTAMP:20260423T045319
CREATED:20240102T062600Z
LAST-MODIFIED:20240102T063504Z
UID:3798-1716111900-1716120000@maitrise.be
SUMMARY:Messe de Pentecôte
DESCRIPTION:
URL:https://maitrise.be/prestation/messe-de-pentecote-5/
LOCATION:CATHEDRALE
CATEGORIES:calendrier-jeunes
END:VEVENT
BEGIN:VEVENT
DTSTART;TZID=Europe/Brussels:20240519T100000
DTEND;TZID=Europe/Brussels:20240519T100000
DTSTAMP:20260423T045319
CREATED:20240102T062050Z
LAST-MODIFIED:20240102T062050Z
UID:3774-1716112800-1716112800@maitrise.be
SUMMARY:Messe de Pentecôte
DESCRIPTION:
URL:https://maitrise.be/prestation/messe-de-pentecote-4/
LOCATION:CATHEDRALE
CATEGORIES:Prestations
END:VEVENT
END:VCALENDAR