BEGIN:VCALENDAR
VERSION:2.0
PRODID:-//Maîtrise - ECPv5.16.4//NONSGML v1.0//EN
CALSCALE:GREGORIAN
METHOD:PUBLISH
X-WR-CALNAME:Maîtrise
X-ORIGINAL-URL:https://maitrise.be
X-WR-CALDESC:Events for Maîtrise
BEGIN:VTIMEZONE
TZID:Europe/Brussels
BEGIN:DAYLIGHT
TZOFFSETFROM:+0100
TZOFFSETTO:+0200
TZNAME:CEST
DTSTART:20240331T010000
END:DAYLIGHT
BEGIN:STANDARD
TZOFFSETFROM:+0200
TZOFFSETTO:+0100
TZNAME:CET
DTSTART:20241027T010000
END:STANDARD
END:VTIMEZONE
BEGIN:VEVENT
DTSTART;TZID=Europe/Brussels:20240517T200000
DTEND;TZID=Europe/Brussels:20240517T200000
DTSTAMP:20260423T045254
CREATED:20240102T061716Z
LAST-MODIFIED:20240102T062600Z
UID:3746-1715976000-1715976000@maitrise.be
SUMMARY:Répétition
DESCRIPTION:
URL:https://maitrise.be/prestation/repetition-91/
LOCATION:CATHEDRALE
CATEGORIES:calendrier-jeunes
END:VEVENT
BEGIN:VEVENT
DTSTART;TZID=Europe/Brussels:20240517T200000
DTEND;TZID=Europe/Brussels:20240517T200000
DTSTAMP:20260423T045254
CREATED:20240515T081951Z
LAST-MODIFIED:20240515T081951Z
UID:4047-1715976000-1715976000@maitrise.be
SUMMARY:Répétition
DESCRIPTION:
URL:https://maitrise.be/prestation/repetition-114/
LOCATION:CATHEDRALE
CATEGORIES:calendrier-adultes
END:VEVENT
END:VCALENDAR