BEGIN:VCALENDAR
VERSION:2.0
PRODID:-//Maîtrise - ECPv5.16.4//NONSGML v1.0//EN
CALSCALE:GREGORIAN
METHOD:PUBLISH
X-WR-CALNAME:Maîtrise
X-ORIGINAL-URL:https://maitrise.be
X-WR-CALDESC:Events for Maîtrise
BEGIN:VTIMEZONE
TZID:Europe/Brussels
BEGIN:DAYLIGHT
TZOFFSETFROM:+0100
TZOFFSETTO:+0200
TZNAME:CEST
DTSTART:20240331T010000
END:DAYLIGHT
BEGIN:STANDARD
TZOFFSETFROM:+0200
TZOFFSETTO:+0100
TZNAME:CET
DTSTART:20241027T010000
END:STANDARD
END:VTIMEZONE
BEGIN:VEVENT
DTSTART;TZID=Europe/Brussels:20240216T180000
DTEND;TZID=Europe/Brussels:20240216T180000
DTSTAMP:20260423T095432
CREATED:20240102T062122Z
LAST-MODIFIED:20240102T062122Z
UID:3785-1708106400-1708106400@maitrise.be
SUMMARY:Répétition
DESCRIPTION:
URL:https://maitrise.be/prestation/repetition-104/
LOCATION:Local
CATEGORIES:calendrier-jeunes
END:VEVENT
BEGIN:VEVENT
DTSTART;TZID=Europe/Brussels:20240216T200000
DTEND;TZID=Europe/Brussels:20240216T200000
DTSTAMP:20260423T095432
CREATED:20240102T061615Z
LAST-MODIFIED:20240102T061615Z
UID:3726-1708113600-1708113600@maitrise.be
SUMMARY:Répétition
DESCRIPTION:
URL:https://maitrise.be/prestation/repetition-79/
LOCATION:Local
CATEGORIES:calendrier-adultes
END:VEVENT
END:VCALENDAR