BEGIN:VCALENDAR
VERSION:2.0
PRODID:-//Maîtrise - ECPv5.16.4//NONSGML v1.0//EN
CALSCALE:GREGORIAN
METHOD:PUBLISH
X-WR-CALNAME:Maîtrise
X-ORIGINAL-URL:https://maitrise.be
X-WR-CALDESC:Events for Maîtrise
BEGIN:VTIMEZONE
TZID:Europe/Brussels
BEGIN:DAYLIGHT
TZOFFSETFROM:+0100
TZOFFSETTO:+0200
TZNAME:CEST
DTSTART:20240331T010000
END:DAYLIGHT
BEGIN:STANDARD
TZOFFSETFROM:+0200
TZOFFSETTO:+0100
TZNAME:CET
DTSTART:20241027T010000
END:STANDARD
END:VTIMEZONE
BEGIN:VEVENT
DTSTART;TZID=Europe/Brussels:20240112T180000
DTEND;TZID=Europe/Brussels:20240112T180000
DTSTAMP:20260423T112626
CREATED:20230929T050758Z
LAST-MODIFIED:20230929T050758Z
UID:3665-1705082400-1705082400@maitrise.be
SUMMARY:Répétition
DESCRIPTION:
URL:https://maitrise.be/prestation/repetition-74/
LOCATION:Local
CATEGORIES:calendrier-jeunes
END:VEVENT
BEGIN:VEVENT
DTSTART;TZID=Europe/Brussels:20240112T200000
DTEND;TZID=Europe/Brussels:20240112T200000
DTSTAMP:20260423T112626
CREATED:20230929T035947Z
LAST-MODIFIED:20230929T041416Z
UID:3605-1705089600-1705089600@maitrise.be
SUMMARY:Répétition et Voeux
DESCRIPTION:
URL:https://maitrise.be/prestation/repetition-et-voeux/
LOCATION:Local
CATEGORIES:calendrier-adultes
END:VEVENT
END:VCALENDAR