BEGIN:VCALENDAR
VERSION:2.0
PRODID:-//Maîtrise - ECPv5.16.4//NONSGML v1.0//EN
CALSCALE:GREGORIAN
METHOD:PUBLISH
X-WR-CALNAME:Maîtrise
X-ORIGINAL-URL:https://maitrise.be
X-WR-CALDESC:Events for Maîtrise
BEGIN:VTIMEZONE
TZID:Europe/Brussels
BEGIN:DAYLIGHT
TZOFFSETFROM:+0100
TZOFFSETTO:+0200
TZNAME:CEST
DTSTART:20230326T010000
END:DAYLIGHT
BEGIN:STANDARD
TZOFFSETFROM:+0200
TZOFFSETTO:+0100
TZNAME:CET
DTSTART:20231029T010000
END:STANDARD
END:VTIMEZONE
BEGIN:VEVENT
DTSTART;TZID=Europe/Brussels:20231225T093000
DTEND;TZID=Europe/Brussels:20231225T093000
DTSTAMP:20260423T131117
CREATED:20230929T050745Z
LAST-MODIFIED:20230929T050745Z
UID:3664-1703496600-1703496600@maitrise.be
SUMMARY:Messe de Noël
DESCRIPTION:
URL:https://maitrise.be/prestation/messe-de-noel-3/
LOCATION:CATHEDRALE
CATEGORIES:calendrier-jeunes
END:VEVENT
BEGIN:VEVENT
DTSTART;TZID=Europe/Brussels:20231225T094500
DTEND;TZID=Europe/Brussels:20231225T094500
DTSTAMP:20260423T131117
CREATED:20230929T041416Z
LAST-MODIFIED:20230929T041416Z
UID:3641-1703497500-1703497500@maitrise.be
SUMMARY:Messe de Noël
DESCRIPTION:
URL:https://maitrise.be/prestation/messe-de-noel-2/
LOCATION:CATHEDRALE
CATEGORIES:calendrier-adultes
END:VEVENT
BEGIN:VEVENT
DTSTART;TZID=Europe/Brussels:20231225T100000
DTEND;TZID=Europe/Brussels:20231225T100000
DTSTAMP:20260423T131117
CREATED:20231002T222625Z
LAST-MODIFIED:20231002T222625Z
UID:3679-1703498400-1703498400@maitrise.be
SUMMARY:Messe de Noël
DESCRIPTION:
URL:https://maitrise.be/prestation/messe-de-noel-4/
LOCATION:CATHEDRALE
CATEGORIES:Prestations
END:VEVENT
END:VCALENDAR