BEGIN:VCALENDAR
VERSION:2.0
PRODID:-//Maîtrise - ECPv5.16.4//NONSGML v1.0//EN
CALSCALE:GREGORIAN
METHOD:PUBLISH
X-WR-CALNAME:Maîtrise
X-ORIGINAL-URL:https://maitrise.be
X-WR-CALDESC:Events for Maîtrise
BEGIN:VTIMEZONE
TZID:Europe/Brussels
BEGIN:DAYLIGHT
TZOFFSETFROM:+0100
TZOFFSETTO:+0200
TZNAME:CEST
DTSTART:20230326T010000
END:DAYLIGHT
BEGIN:STANDARD
TZOFFSETFROM:+0200
TZOFFSETTO:+0100
TZNAME:CET
DTSTART:20231029T010000
END:STANDARD
END:VTIMEZONE
BEGIN:VEVENT
DTSTART;TZID=Europe/Brussels:20231101T094500
DTEND;TZID=Europe/Brussels:20231101T094500
DTSTAMP:20260423T145332
CREATED:20230929T041342Z
LAST-MODIFIED:20230929T041342Z
UID:3628-1698831900-1698831900@maitrise.be
SUMMARY:Messe de Toussaint
DESCRIPTION:
URL:https://maitrise.be/prestation/messe-de-toussaint-2/
LOCATION:CATHEDRALE
CATEGORIES:calendrier-adultes
END:VEVENT
BEGIN:VEVENT
DTSTART;TZID=Europe/Brussels:20231101T100000
DTEND;TZID=Europe/Brussels:20231101T100000
DTSTAMP:20260423T145332
CREATED:20231002T222625Z
LAST-MODIFIED:20231002T222625Z
UID:3677-1698832800-1698832800@maitrise.be
SUMMARY:Messe de Toussaint
DESCRIPTION:
URL:https://maitrise.be/prestation/messe-de-toussaint-3/
LOCATION:CATHEDRALE
CATEGORIES:Prestations
END:VEVENT
BEGIN:VEVENT
DTSTART;TZID=Europe/Brussels:20231101T180000
DTEND;TZID=Europe/Brussels:20231101T180000
DTSTAMP:20260423T145332
CREATED:20230929T050726Z
LAST-MODIFIED:20230929T050726Z
UID:3654-1698861600-1698861600@maitrise.be
SUMMARY:Répétition
DESCRIPTION:
URL:https://maitrise.be/prestation/repetition-69/
LOCATION:Local
CATEGORIES:calendrier-jeunes
END:VEVENT
END:VCALENDAR