BEGIN:VCALENDAR
VERSION:2.0
PRODID:-//Maîtrise - ECPv5.16.4//NONSGML v1.0//EN
CALSCALE:GREGORIAN
METHOD:PUBLISH
X-WR-CALNAME:Maîtrise
X-ORIGINAL-URL:https://maitrise.be
X-WR-CALDESC:Events for Maîtrise
BEGIN:VTIMEZONE
TZID:UTC
BEGIN:STANDARD
TZOFFSETFROM:+0000
TZOFFSETTO:+0000
TZNAME:UTC
DTSTART:20230101T000000
END:STANDARD
END:VTIMEZONE
BEGIN:VEVENT
DTSTART;VALUE=DATE:20230519
DTEND;VALUE=DATE:20230520
DTSTAMP:20260424T011305
CREATED:20221216T075151Z
LAST-MODIFIED:20221216T075151Z
UID:2831-1684454400-1684540799@maitrise.be
SUMMARY:WE d’Ascension
DESCRIPTION:
URL:https://maitrise.be/prestation/we-dascension/
CATEGORIES:calendrier-jeunes
ATTACH;FMTTYPE=image/jpeg:https://maitrise.be/wp-content/uploads/2018/07/IMG_1452.jpg
END:VEVENT
BEGIN:VEVENT
DTSTART;TZID=UTC:20230519T200000
DTEND;TZID=UTC:20230519T210000
DTSTAMP:20260424T011305
CREATED:20221216T181349Z
LAST-MODIFIED:20230118T005908Z
UID:2899-1684526400-1684530000@maitrise.be
SUMMARY:RÉPÉTITION
DESCRIPTION:
URL:https://maitrise.be/prestation/repetition-44/
LOCATION:CATHEDRALE
CATEGORIES:calendrier-adultes
ATTACH;FMTTYPE=image/png:https://maitrise.be/wp-content/uploads/2022/12/1d88c5db24254a9514adbf1c376590d.png
END:VEVENT
END:VCALENDAR