BEGIN:VCALENDAR
VERSION:2.0
PRODID:-//Maîtrise - ECPv5.16.4//NONSGML v1.0//EN
CALSCALE:GREGORIAN
METHOD:PUBLISH
X-WR-CALNAME:Maîtrise
X-ORIGINAL-URL:https://maitrise.be
X-WR-CALDESC:Events for Maîtrise
BEGIN:VTIMEZONE
TZID:UTC
BEGIN:STANDARD
TZOFFSETFROM:+0000
TZOFFSETTO:+0000
TZNAME:UTC
DTSTART:20230101T000000
END:STANDARD
END:VTIMEZONE
BEGIN:VEVENT
DTSTART;TZID=UTC:20230518T100000
DTEND;TZID=UTC:20230518T110000
DTSTAMP:20260424T011158
CREATED:20221216T075029Z
LAST-MODIFIED:20230118T005929Z
UID:2829-1684404000-1684407600@maitrise.be
SUMMARY:MESSE D’ASCENSION
DESCRIPTION:
URL:https://maitrise.be/prestation/messe-dascension/
LOCATION:CATHEDRALE
CATEGORIES:calendrier-jeunes
ATTACH;FMTTYPE=image/jpeg:https://maitrise.be/wp-content/uploads/2018/07/IMG_1452.jpg
END:VEVENT
BEGIN:VEVENT
DTSTART;TZID=UTC:20230518T100000
DTEND;TZID=UTC:20230518T110000
DTSTAMP:20260424T011158
CREATED:20221216T181302Z
LAST-MODIFIED:20230118T005942Z
UID:2895-1684404000-1684407600@maitrise.be
SUMMARY:MESSE D’ASCENSION
DESCRIPTION:
URL:https://maitrise.be/prestation/messe-dascension-2/
LOCATION:CATHEDRALE
CATEGORIES:calendrier-adultes
ATTACH;FMTTYPE=image/png:https://maitrise.be/wp-content/uploads/2022/12/1d88c5db24254a9514adbf1c376590d.png
END:VEVENT
END:VCALENDAR