BEGIN:VCALENDAR
VERSION:2.0
PRODID:-//Maîtrise - ECPv5.16.4//NONSGML v1.0//EN
CALSCALE:GREGORIAN
METHOD:PUBLISH
X-WR-CALNAME:Maîtrise
X-ORIGINAL-URL:https://maitrise.be
X-WR-CALDESC:Events for Maîtrise
BEGIN:VTIMEZONE
TZID:UTC
BEGIN:STANDARD
TZOFFSETFROM:+0000
TZOFFSETTO:+0000
TZNAME:UTC
DTSTART:20230101T000000
END:STANDARD
END:VTIMEZONE
BEGIN:VEVENT
DTSTART;TZID=UTC:20230203T180000
DTEND;TZID=UTC:20230203T190000
DTSTAMP:20260424T055823
CREATED:20221214T115553Z
LAST-MODIFIED:20230118T010417Z
UID:2790-1675447200-1675450800@maitrise.be
SUMMARY:Répétition
DESCRIPTION:
URL:https://maitrise.be/prestation/repetition-5/
LOCATION:Local
CATEGORIES:calendrier-jeunes
ATTACH;FMTTYPE=image/jpeg:https://maitrise.be/wp-content/uploads/2018/07/IMG_1452.jpg
END:VEVENT
BEGIN:VEVENT
DTSTART;TZID=UTC:20230203T200000
DTEND;TZID=UTC:20230203T210000
DTSTAMP:20260424T055823
CREATED:20221216T175314Z
LAST-MODIFIED:20230118T010414Z
UID:2844-1675454400-1675458000@maitrise.be
SUMMARY:RÉPÉTITION
DESCRIPTION:
URL:https://maitrise.be/prestation/repetition-24/
LOCATION:Local
CATEGORIES:calendrier-adultes
ATTACH;FMTTYPE=image/png:https://maitrise.be/wp-content/uploads/2022/12/1d88c5db24254a9514adbf1c376590d.png
END:VEVENT
END:VCALENDAR