BEGIN:VCALENDAR
VERSION:2.0
PRODID:-//Maîtrise - ECPv5.16.4//NONSGML v1.0//EN
CALSCALE:GREGORIAN
METHOD:PUBLISH
X-WR-CALNAME:Maîtrise
X-ORIGINAL-URL:https://maitrise.be
X-WR-CALDESC:Events for Maîtrise
BEGIN:VTIMEZONE
TZID:UTC
BEGIN:STANDARD
TZOFFSETFROM:+0000
TZOFFSETTO:+0000
TZNAME:UTC
DTSTART:20220101T000000
END:STANDARD
END:VTIMEZONE
BEGIN:VEVENT
DTSTART;TZID=UTC:20221101T100000
DTEND;TZID=UTC:20221101T230000
DTSTAMP:20260424T102010
CREATED:20221219T162306Z
LAST-MODIFIED:20221222T040126Z
UID:2939-1667296800-1667343600@maitrise.be
SUMMARY:MESSE DE TOUSSAINT 2022
DESCRIPTION:– Entrée : “Il vient en chantant le peuple des sauvés” ;\n– Kyrië\, Gloria et Agnus : “Missa VI” de Antonio LOTTI (1667-1740) ;\n– Psaume 23 “Voici le peuple immense” de Jean VAN DE CAUTER (1906-1979) ;\n– Alleluia (2015) de William BOYCE (1711-1779) ;\n– Offertoire : “Extrait des Béatitudes” de César FRANCK (1822-1890) ;\n– Sanctus “Messe de Saint Séverin” de Michel BOUVARD (1958- ) ;\n– Communion : “Béatitudes” de Chévetogne.
URL:https://maitrise.be/prestation/messe-de-toussaint-2022/
LOCATION:CATHÉDRALE de TOURNAI
CATEGORIES:Prestations
ATTACH;FMTTYPE=image/jpeg:https://maitrise.be/wp-content/uploads/2022/12/0117f7918c6efbdc221855892eb6e0c.jpg
END:VEVENT
END:VCALENDAR